BEGIN:VCALENDAR
VERSION:2.0
PRODID:-//Coulee Life Church - ECPv6.15.20//NONSGML v1.0//EN
CALSCALE:GREGORIAN
METHOD:PUBLISH
X-ORIGINAL-URL:https://couleelife.church
X-WR-CALDESC:Events for Coulee Life Church
REFRESH-INTERVAL;VALUE=DURATION:PT1H
X-Robots-Tag:noindex
X-PUBLISHED-TTL:PT1H
BEGIN:VTIMEZONE
TZID:America/Chicago
BEGIN:DAYLIGHT
TZOFFSETFROM:-0600
TZOFFSETTO:-0500
TZNAME:CDT
DTSTART:20220313T080000
END:DAYLIGHT
BEGIN:STANDARD
TZOFFSETFROM:-0500
TZOFFSETTO:-0600
TZNAME:CST
DTSTART:20221106T070000
END:STANDARD
BEGIN:DAYLIGHT
TZOFFSETFROM:-0600
TZOFFSETTO:-0500
TZNAME:CDT
DTSTART:20230312T080000
END:DAYLIGHT
BEGIN:STANDARD
TZOFFSETFROM:-0500
TZOFFSETTO:-0600
TZNAME:CST
DTSTART:20231105T070000
END:STANDARD
BEGIN:DAYLIGHT
TZOFFSETFROM:-0600
TZOFFSETTO:-0500
TZNAME:CDT
DTSTART:20240310T080000
END:DAYLIGHT
BEGIN:STANDARD
TZOFFSETFROM:-0500
TZOFFSETTO:-0600
TZNAME:CST
DTSTART:20241103T070000
END:STANDARD
END:VTIMEZONE
BEGIN:VEVENT
DTSTART;TZID=America/Chicago:20230409T100000
DTEND;TZID=America/Chicago:20230409T110000
DTSTAMP:20260420T063115
CREATED:20230224T000720Z
LAST-MODIFIED:20230224T000720Z
UID:3734-1681034400-1681038000@couleelife.church
SUMMARY:Easter @ Coulee Life
DESCRIPTION:Celebrate Easter with us on Easter Sunday\, April 9th @ 10:00am. \nYou can participate in person with us\, or view our worship gathering online either on Facebook or our online streaming platform \nEverybody wants life change. \nWhen we follow Jesus\, life change becomes more than a desire\, it becomes a reality. This is all possible because of Easter. It is God’s living proof that He can do the impossible! \n  \nKids ministry will be available for ages birth through 5th grade. \nIf you are new to Coulee Life\, here is a little of what to expect.
URL:https://couleelife.church/event/easter-2023/
LOCATION:Coulee Life Church\, N5761 County Road SN\, Onalaska\, WI\, 54650\, United States
CATEGORIES:Easter
ATTACH;FMTTYPE=image/jpeg:https://couleelife.church/wp-content/uploads/2022/03/Slide.jpg
END:VEVENT
END:VCALENDAR