BEGIN:VCALENDAR
VERSION:2.0
PRODID:-//Coulee Life Church - ECPv6.15.20//NONSGML v1.0//EN
CALSCALE:GREGORIAN
METHOD:PUBLISH
X-ORIGINAL-URL:https://couleelife.church
X-WR-CALDESC:Events for Coulee Life Church
REFRESH-INTERVAL;VALUE=DURATION:PT1H
X-Robots-Tag:noindex
X-PUBLISHED-TTL:PT1H
BEGIN:VTIMEZONE
TZID:America/Chicago
BEGIN:DAYLIGHT
TZOFFSETFROM:-0600
TZOFFSETTO:-0500
TZNAME:CDT
DTSTART:20190310T080000
END:DAYLIGHT
BEGIN:STANDARD
TZOFFSETFROM:-0500
TZOFFSETTO:-0600
TZNAME:CST
DTSTART:20191103T070000
END:STANDARD
BEGIN:DAYLIGHT
TZOFFSETFROM:-0600
TZOFFSETTO:-0500
TZNAME:CDT
DTSTART:20200308T080000
END:DAYLIGHT
BEGIN:STANDARD
TZOFFSETFROM:-0500
TZOFFSETTO:-0600
TZNAME:CST
DTSTART:20201101T070000
END:STANDARD
BEGIN:DAYLIGHT
TZOFFSETFROM:-0600
TZOFFSETTO:-0500
TZNAME:CDT
DTSTART:20210314T080000
END:DAYLIGHT
BEGIN:STANDARD
TZOFFSETFROM:-0500
TZOFFSETTO:-0600
TZNAME:CST
DTSTART:20211107T070000
END:STANDARD
END:VTIMEZONE
BEGIN:VEVENT
DTSTART;TZID=America/Chicago:20200926T103000
DTEND;TZID=America/Chicago:20200926T120000
DTSTAMP:20260425T121334
CREATED:20200916T145254Z
LAST-MODIFIED:20200916T145254Z
UID:2540-1601116200-1601121600@couleelife.church
SUMMARY:Community Prayer Walk
DESCRIPTION:Join us as we team up with Holmen’s Hope and pray for our communities. We are starting at Festival Foods in Holmen at 10:30am.\n\nHere is our route and items of prayer…\n– Festival Foods: praying for food supply\, people with food insecurities\n– Mayo Clinic: praying for health and wellness\n– Fire station: praying for firefighters and first responders\n– Police station: praying for safety and support for our officers\n– American Legion: praying for our service men and women\, veterans and all who attended and supported the many community meals there\n– Village hall: praying for local\, state\, and national governments and officials\n– Holmen Middle School: praying for all of our students\, teachers\, administrators and support staff\n– BGC/Community Center: praying for our children\, families and workers and volunteers\n\n\nThis is a non-denominational and non-partisan public call to prayer for our friends\, family\, neighbors\, community\, and country.
URL:https://couleelife.church/event/community-prayer-walk/
LOCATION:WI
ATTACH;FMTTYPE=image/png:https://couleelife.church/wp-content/uploads/2020/09/comm-prayer-walk2.png
END:VEVENT
END:VCALENDAR